Package: flowClust Version: 3.47.0 Command: /home/biocbuild/bbs-3.22-bioc/R/bin/R CMD build --keep-empty-dirs --no-resave-data --md5 flowClust StartedAt: 2025-10-19 17:40:28 -0400 (Sun, 19 Oct 2025) EndedAt: 2025-10-19 17:42:14 -0400 (Sun, 19 Oct 2025) EllapsedTime: 106.2 seconds RetCode: 0 Status: OK PackageFile: flowClust_3.47.0.tar.gz PackageFileSize: 1.728 MiB