Package: flowClust Version: 3.47.0 Command: /Library/Frameworks/R.framework/Resources/bin/R CMD INSTALL flowClust StartedAt: 2025-10-19 15:17:42 -0400 (Sun, 19 Oct 2025) EndedAt: 2025-10-19 15:21:27 -0400 (Sun, 19 Oct 2025) EllapsedTime: 224.6 seconds RetCode: 0 Status: OK