Package: flowClust Version: 3.47.0 Command: /Library/Frameworks/R.framework/Resources/bin/R CMD check --install=check:flowClust.install-out.txt --library=/Library/Frameworks/R.framework/Resources/library --no-vignettes --timings flowClust_3.47.0.tar.gz StartedAt: 2025-10-19 22:20:59 -0400 (Sun, 19 Oct 2025) EndedAt: 2025-10-19 22:26:27 -0400 (Sun, 19 Oct 2025) EllapsedTime: 328.5 seconds RetCode: 0 Status: WARNINGS CheckDir: flowClust.Rcheck Warnings: 2