Package: flowClust Version: 3.47.0 Command: /Library/Frameworks/R.framework/Resources/bin/R CMD build --keep-empty-dirs --no-resave-data flowClust StartedAt: 2025-10-19 17:13:20 -0400 (Sun, 19 Oct 2025) EndedAt: 2025-10-19 17:18:29 -0400 (Sun, 19 Oct 2025) EllapsedTime: 309.2 seconds RetCode: 0 Status: OK PackageFile: flowClust_3.47.0.tar.gz PackageFileSize: 1.765 MiB