Package: flowClust Version: 3.47.0 Command: rm -rf flowClust.buildbin-libdir && mkdir flowClust.buildbin-libdir && /Users/biocbuild/BBS/utils/build-universal.sh flowClust_3.47.0.tar.gz /Library/Frameworks/R.framework/Resources/bin/R flowClust.buildbin-libdir StartedAt: 2025-10-20 03:09:24 -0400 (Mon, 20 Oct 2025) EndedAt: 2025-10-20 03:14:20 -0400 (Mon, 20 Oct 2025) EllapsedTime: 296.7 seconds RetCode: 0 Status: OK PackageFile: flowClust_3.47.0.tgz PackageFileSize: 1.537 MiB