Package: flowClust Version: 3.47.0 Command: /Library/Frameworks/R.framework/Resources/bin/R CMD INSTALL flowClust StartedAt: 2025-10-21 15:11:12 -0400 (Tue, 21 Oct 2025) EndedAt: 2025-10-21 15:12:07 -0400 (Tue, 21 Oct 2025) EllapsedTime: 55.2 seconds RetCode: 0 Status: OK