Package: flowClust Version: 3.47.0 Command: /Library/Frameworks/R.framework/Resources/bin/R CMD build --keep-empty-dirs --no-resave-data flowClust StartedAt: 2025-10-21 16:25:15 -0400 (Tue, 21 Oct 2025) EndedAt: 2025-10-21 16:26:20 -0400 (Tue, 21 Oct 2025) EllapsedTime: 64.7 seconds RetCode: 0 Status: OK PackageFile: flowClust_3.47.0.tar.gz PackageFileSize: 1.765 MiB