Package: flowClean Version: 1.48.0 Command: /home/biocbuild/R/R/bin/R CMD check --install=check:flowClean.install-out.txt --library=/home/biocbuild/R/R/site-library --no-vignettes --timings flowClean_1.48.0.tar.gz StartedAt: 2025-11-14 09:33:20 -0000 (Fri, 14 Nov 2025) EndedAt: 2025-11-14 09:34:39 -0000 (Fri, 14 Nov 2025) EllapsedTime: 79.1 seconds RetCode: 0 Status: WARNINGS CheckDir: flowClean.Rcheck Warnings: 3