Package: flowClean Version: 1.48.0 Command: /home/biocbuild/R/R/bin/R CMD build --keep-empty-dirs --no-resave-data flowClean StartedAt: 2025-11-14 01:51:40 -0000 (Fri, 14 Nov 2025) EndedAt: 2025-11-14 01:52:16 -0000 (Fri, 14 Nov 2025) EllapsedTime: 36.0 seconds RetCode: 0 Status: OK PackageFile: flowClean_1.48.0.tar.gz PackageFileSize: 4.699 MiB