Package: flowClean Version: 1.48.0 Command: /Library/Frameworks/R.framework/Resources/bin/R CMD INSTALL flowClean StartedAt: 2025-11-20 16:25:06 -0500 (Thu, 20 Nov 2025) EndedAt: 2025-11-20 16:25:15 -0500 (Thu, 20 Nov 2025) EllapsedTime: 9.2 seconds RetCode: 0 Status: OK