Package: flowClean Version: 1.48.0 Command: /Library/Frameworks/R.framework/Resources/bin/R CMD build --keep-empty-dirs --no-resave-data flowClean StartedAt: 2025-11-21 01:16:09 -0500 (Fri, 21 Nov 2025) EndedAt: 2025-11-21 01:16:51 -0500 (Fri, 21 Nov 2025) EllapsedTime: 42.1 seconds RetCode: 0 Status: OK PackageFile: flowClean_1.48.0.tar.gz PackageFileSize: 4.924 MiB