Package: flowCHIC Version: 1.43.0 Command: /home/biocbuild/bbs-3.22-bioc/R/bin/R CMD build --keep-empty-dirs --no-resave-data --md5 flowCHIC StartedAt: 2025-10-19 17:40:11 -0400 (Sun, 19 Oct 2025) EndedAt: 2025-10-19 17:40:44 -0400 (Sun, 19 Oct 2025) EllapsedTime: 33.0 seconds RetCode: 0 Status: OK PackageFile: flowCHIC_1.43.0.tar.gz PackageFileSize: 3.242 MiB