Package: flowCHIC Version: 1.43.0 Command: /Library/Frameworks/R.framework/Resources/bin/R CMD INSTALL flowCHIC StartedAt: 2025-10-20 15:15:42 -0400 (Mon, 20 Oct 2025) EndedAt: 2025-10-20 15:16:01 -0400 (Mon, 20 Oct 2025) EllapsedTime: 18.5 seconds RetCode: 0 Status: OK