Package: flowCHIC Version: 1.43.0 Command: /Library/Frameworks/R.framework/Resources/bin/R CMD INSTALL flowCHIC StartedAt: 2025-10-19 15:07:19 -0400 (Sun, 19 Oct 2025) EndedAt: 2025-10-19 15:07:24 -0400 (Sun, 19 Oct 2025) EllapsedTime: 5.4 seconds RetCode: 0 Status: OK