Package: flowBin Version: 1.45.0 Command: F:\biocbuild\bbs-3.22-bioc\R\bin\R.exe CMD check --no-multiarch --install=check:flowBin.install-out.txt --library=F:\biocbuild\bbs-3.22-bioc\R\library --no-vignettes --timings flowBin_1.45.0.tar.gz StartedAt: 2025-08-15 03:16:38 -0400 (Fri, 15 Aug 2025) EndedAt: 2025-08-15 03:18:25 -0400 (Fri, 15 Aug 2025) EllapsedTime: 107.2 seconds RetCode: 0 Status: OK CheckDir: flowBin.Rcheck Warnings: 0