Package: flowBin Version: 1.45.0 Command: chmod a+r flowBin -R && F:\biocbuild\bbs-3.22-bioc\R\bin\R.exe CMD build --keep-empty-dirs --no-resave-data flowBin StartedAt: 2025-08-14 20:12:16 -0400 (Thu, 14 Aug 2025) EndedAt: 2025-08-14 20:12:50 -0400 (Thu, 14 Aug 2025) EllapsedTime: 34.2 seconds RetCode: 0 Status: OK PackageFile: flowBin_1.45.0.tar.gz PackageFileSize: 483.6 KiB