Package: flowBin Version: 1.46.0 Command: /home/biocbuild/bbs-3.22-bioc/R/bin/R CMD INSTALL flowBin StartedAt: 2025-11-14 15:15:34 -0500 (Fri, 14 Nov 2025) EndedAt: 2025-11-14 15:15:43 -0500 (Fri, 14 Nov 2025) EllapsedTime: 9.7 seconds RetCode: 0 Status: OK