Package: flowBin Version: 1.45.0 Command: /Library/Frameworks/R.framework/Resources/bin/R CMD check --install=check:flowBin.install-out.txt --library=/Library/Frameworks/R.framework/Resources/library --no-vignettes --timings flowBin_1.45.0.tar.gz StartedAt: 2025-10-10 21:53:02 -0400 (Fri, 10 Oct 2025) EndedAt: 2025-10-10 21:55:08 -0400 (Fri, 10 Oct 2025) EllapsedTime: 125.9 seconds RetCode: 0 Status: OK CheckDir: flowBin.Rcheck Warnings: 0