Package: flowBin Version: 1.45.0 Command: /Library/Frameworks/R.framework/Resources/bin/R CMD build --keep-empty-dirs --no-resave-data flowBin StartedAt: 2025-10-10 17:11:34 -0400 (Fri, 10 Oct 2025) EndedAt: 2025-10-10 17:12:07 -0400 (Fri, 10 Oct 2025) EllapsedTime: 33.1 seconds RetCode: 0 Status: OK PackageFile: flowBin_1.45.0.tar.gz PackageFileSize: 574.8 KiB