Package: flowBin Version: 1.46.0 Command: /Library/Frameworks/R.framework/Resources/bin/R CMD INSTALL flowBin StartedAt: 2025-11-10 15:07:37 -0500 (Mon, 10 Nov 2025) EndedAt: 2025-11-10 15:07:41 -0500 (Mon, 10 Nov 2025) EllapsedTime: 4.1 seconds RetCode: 0 Status: OK