Package: flowBeads Version: 1.47.0 Command: /home/biocbuild/R/R/bin/R CMD INSTALL flowBeads StartedAt: 2025-10-23 20:33:02 -0000 (Thu, 23 Oct 2025) EndedAt: 2025-10-23 20:33:15 -0000 (Thu, 23 Oct 2025) EllapsedTime: 12.9 seconds RetCode: 0 Status: OK