Package: flowBeads Version: 1.47.0 Command: /home/biocbuild/R/R/bin/R CMD check --install=check:flowBeads.install-out.txt --library=/home/biocbuild/R/R/site-library --no-vignettes --timings flowBeads_1.47.0.tar.gz StartedAt: 2025-10-17 09:01:53 -0000 (Fri, 17 Oct 2025) EndedAt: 2025-10-17 09:03:03 -0000 (Fri, 17 Oct 2025) EllapsedTime: 69.0 seconds RetCode: 0 Status: WARNINGS CheckDir: flowBeads.Rcheck Warnings: 2