Package: flowBeads Version: 1.47.0 Command: /Library/Frameworks/R.framework/Resources/bin/R CMD INSTALL flowBeads StartedAt: 2025-10-23 15:16:16 -0400 (Thu, 23 Oct 2025) EndedAt: 2025-10-23 15:16:36 -0400 (Thu, 23 Oct 2025) EllapsedTime: 19.7 seconds RetCode: 0 Status: OK