Package: flowBeads Version: 1.47.0 Command: /Library/Frameworks/R.framework/Resources/bin/R CMD check --install=check:flowBeads.install-out.txt --library=/Library/Frameworks/R.framework/Resources/library --no-vignettes --timings flowBeads_1.47.0.tar.gz StartedAt: 2025-10-27 21:42:24 -0400 (Mon, 27 Oct 2025) EndedAt: 2025-10-27 21:43:39 -0400 (Mon, 27 Oct 2025) EllapsedTime: 74.7 seconds RetCode: 0 Status: WARNINGS CheckDir: flowBeads.Rcheck Warnings: 2