Package: flowBeads Version: 1.47.0 Command: /Library/Frameworks/R.framework/Resources/bin/R CMD build --keep-empty-dirs --no-resave-data flowBeads StartedAt: 2025-10-23 16:58:54 -0400 (Thu, 23 Oct 2025) EndedAt: 2025-10-23 16:59:17 -0400 (Thu, 23 Oct 2025) EllapsedTime: 22.8 seconds RetCode: 0 Status: OK PackageFile: flowBeads_1.47.0.tar.gz PackageFileSize: 977.4 KiB