Package: flowBeads Version: 1.47.0 Command: rm -rf flowBeads.buildbin-libdir && mkdir flowBeads.buildbin-libdir && /Users/biocbuild/BBS/utils/build-universal.sh flowBeads_1.47.0.tar.gz /Library/Frameworks/R.framework/Resources/bin/R flowBeads.buildbin-libdir StartedAt: 2025-10-25 01:40:23 -0400 (Sat, 25 Oct 2025) EndedAt: 2025-10-25 01:40:40 -0400 (Sat, 25 Oct 2025) EllapsedTime: 17.4 seconds RetCode: 0 Status: OK PackageFile: flowBeads_1.47.0.tgz PackageFileSize: 1.225 MiB