Package: flowBeads Version: 1.47.0 Command: /Library/Frameworks/R.framework/Resources/bin/R CMD check --install=check:flowBeads.install-out.txt --library=/Library/Frameworks/R.framework/Resources/library --no-vignettes --timings flowBeads_1.47.0.tar.gz StartedAt: 2025-10-26 19:43:22 -0400 (Sun, 26 Oct 2025) EndedAt: 2025-10-26 19:43:47 -0400 (Sun, 26 Oct 2025) EllapsedTime: 25.3 seconds RetCode: 0 Status: WARNINGS CheckDir: flowBeads.Rcheck Warnings: 2