Package: flowBeads Version: 1.47.0 Command: /Library/Frameworks/R.framework/Resources/bin/R CMD build --keep-empty-dirs --no-resave-data flowBeads StartedAt: 2025-10-26 16:29:34 -0400 (Sun, 26 Oct 2025) EndedAt: 2025-10-26 16:29:43 -0400 (Sun, 26 Oct 2025) EllapsedTime: 8.1 seconds RetCode: 0 Status: OK PackageFile: flowBeads_1.47.0.tar.gz PackageFileSize: 978.1 KiB