Package: flowAI Version: 1.39.0 Command: /home/biocbuild/bbs-3.22-bioc/R/bin/R CMD check --install=check:flowAI.install-out.txt --library=/home/biocbuild/bbs-3.22-bioc/R/site-library --timings flowAI_1.39.0.tar.gz StartedAt: 2025-10-23 23:36:20 -0400 (Thu, 23 Oct 2025) EndedAt: 2025-10-23 23:37:35 -0400 (Thu, 23 Oct 2025) EllapsedTime: 75.1 seconds RetCode: 0 Status: OK CheckDir: flowAI.Rcheck Warnings: 0