Package: flowAI Version: 1.39.0 Command: /Library/Frameworks/R.framework/Resources/bin/R CMD INSTALL flowAI StartedAt: 2025-10-26 15:07:30 -0400 (Sun, 26 Oct 2025) EndedAt: 2025-10-26 15:07:34 -0400 (Sun, 26 Oct 2025) EllapsedTime: 4.3 seconds RetCode: 0 Status: OK