Package: flowAI Version: 1.39.0 Command: rm -rf flowAI.buildbin-libdir && mkdir flowAI.buildbin-libdir && /Users/biocbuild/BBS/utils/build-universal.sh flowAI_1.39.0.tar.gz /Library/Frameworks/R.framework/Resources/bin/R flowAI.buildbin-libdir StartedAt: 2025-10-26 22:35:50 -0400 (Sun, 26 Oct 2025) EndedAt: 2025-10-26 22:35:55 -0400 (Sun, 26 Oct 2025) EllapsedTime: 5.2 seconds RetCode: 0 Status: OK PackageFile: flowAI_1.39.0.tgz PackageFileSize: 3.691 MiB