Package: flagme Version: 1.65.0 Command: /home/biocbuild/R/R/bin/R CMD build --keep-empty-dirs --no-resave-data flagme StartedAt: 2025-10-20 23:47:06 -0000 (Mon, 20 Oct 2025) EndedAt: 2025-10-20 23:51:29 -0000 (Mon, 20 Oct 2025) EllapsedTime: 263.1 seconds RetCode: 0 Status: OK PackageFile: flagme_1.65.0.tar.gz PackageFileSize: 702.3 KiB