Package: flagme Version: 1.65.0 Command: /home/biocbuild/bbs-3.22-bioc/R/bin/R CMD check --install=check:flagme.install-out.txt --library=/home/biocbuild/bbs-3.22-bioc/R/site-library --timings flagme_1.65.0.tar.gz StartedAt: 2025-10-20 23:49:17 -0400 (Mon, 20 Oct 2025) EndedAt: 2025-10-21 00:05:13 -0400 (Tue, 21 Oct 2025) EllapsedTime: 956.0 seconds RetCode: 0 Status: WARNINGS CheckDir: flagme.Rcheck Warnings: 2