Package: flagme Version: 1.65.0 Command: /home/biocbuild/bbs-3.22-bioc/R/bin/R CMD build --keep-empty-dirs --no-resave-data --md5 flagme StartedAt: 2025-10-20 17:35:28 -0400 (Mon, 20 Oct 2025) EndedAt: 2025-10-20 17:38:51 -0400 (Mon, 20 Oct 2025) EllapsedTime: 203.2 seconds RetCode: 0 Status: OK PackageFile: flagme_1.65.0.tar.gz PackageFileSize: 728 KiB