Package: flagme Version: 1.65.0 Command: /Library/Frameworks/R.framework/Resources/bin/R CMD INSTALL flagme StartedAt: 2025-10-22 15:45:21 -0400 (Wed, 22 Oct 2025) EndedAt: 2025-10-22 15:46:30 -0400 (Wed, 22 Oct 2025) EllapsedTime: 69.6 seconds RetCode: 0 Status: OK