Package: flagme Version: 1.65.0 Command: /Library/Frameworks/R.framework/Resources/bin/R CMD check --install=check:flagme.install-out.txt --library=/Library/Frameworks/R.framework/Resources/library --no-vignettes --timings flagme_1.65.0.tar.gz StartedAt: 2025-10-21 19:46:40 -0400 (Tue, 21 Oct 2025) EndedAt: 2025-10-21 19:52:05 -0400 (Tue, 21 Oct 2025) EllapsedTime: 325.0 seconds RetCode: 0 Status: WARNINGS CheckDir: flagme.Rcheck Warnings: 2