Package: fgsea Version: 1.36.0 Command: /home/biocbuild/R/R/bin/R CMD INSTALL fgsea StartedAt: 2025-11-20 21:54:22 -0000 (Thu, 20 Nov 2025) EndedAt: 2025-11-20 21:55:34 -0000 (Thu, 20 Nov 2025) EllapsedTime: 72.0 seconds RetCode: 0 Status: OK