Package: fgsea Version: 1.36.0 Command: /home/biocbuild/R/R/bin/R CMD build --keep-empty-dirs --no-resave-data fgsea StartedAt: 2025-11-21 02:25:13 -0000 (Fri, 21 Nov 2025) EndedAt: 2025-11-21 02:38:01 -0000 (Fri, 21 Nov 2025) EllapsedTime: 767.8 seconds RetCode: 0 Status: OK PackageFile: fgsea_1.36.0.tar.gz PackageFileSize: 4.036 MiB