Package: fgsea Version: 1.36.0 Command: /Library/Frameworks/R.framework/Resources/bin/R CMD INSTALL fgsea StartedAt: 2025-11-20 15:59:18 -0500 (Thu, 20 Nov 2025) EndedAt: 2025-11-20 16:00:15 -0500 (Thu, 20 Nov 2025) EllapsedTime: 56.7 seconds RetCode: 0 Status: OK