Package: fgsea Version: 1.36.0 Command: /Library/Frameworks/R.framework/Resources/bin/R CMD check --install=check:fgsea.install-out.txt --library=/Library/Frameworks/R.framework/Resources/library --no-vignettes --timings fgsea_1.36.0.tar.gz StartedAt: 2025-11-21 05:06:31 -0500 (Fri, 21 Nov 2025) EndedAt: 2025-11-21 05:14:24 -0500 (Fri, 21 Nov 2025) EllapsedTime: 472.3 seconds RetCode: 0 Status: OK CheckDir: fgsea.Rcheck Warnings: 0