Package: fgsea Version: 1.36.0 Command: /Library/Frameworks/R.framework/Resources/bin/R CMD build --keep-empty-dirs --no-resave-data fgsea StartedAt: 2025-11-20 20:04:51 -0500 (Thu, 20 Nov 2025) EndedAt: 2025-11-20 20:19:20 -0500 (Thu, 20 Nov 2025) EllapsedTime: 869.1 seconds RetCode: 0 Status: OK PackageFile: fgsea_1.36.0.tar.gz PackageFileSize: 7.155 MiB