Package: fgsea Version: 1.36.0 Command: /Library/Frameworks/R.framework/Resources/bin/R CMD INSTALL fgsea StartedAt: 2025-11-03 15:15:08 -0500 (Mon, 03 Nov 2025) EndedAt: 2025-11-03 15:16:06 -0500 (Mon, 03 Nov 2025) EllapsedTime: 57.6 seconds RetCode: 0 Status: OK