Package: fgsea Version: 1.36.0 Command: /Library/Frameworks/R.framework/Resources/bin/R CMD check --install=check:fgsea.install-out.txt --library=/Library/Frameworks/R.framework/Resources/library --no-vignettes --timings fgsea_1.36.0.tar.gz StartedAt: 2025-11-03 21:14:00 -0500 (Mon, 03 Nov 2025) EndedAt: 2025-11-03 21:18:33 -0500 (Mon, 03 Nov 2025) EllapsedTime: 273.3 seconds RetCode: 0 Status: OK CheckDir: fgsea.Rcheck Warnings: 0