Package: fgsea Version: 1.36.0 Command: /Library/Frameworks/R.framework/Resources/bin/R CMD build --keep-empty-dirs --no-resave-data fgsea StartedAt: 2025-11-03 17:02:01 -0500 (Mon, 03 Nov 2025) EndedAt: 2025-11-03 17:10:48 -0500 (Mon, 03 Nov 2025) EllapsedTime: 526.6 seconds RetCode: 0 Status: OK PackageFile: fgsea_1.36.0.tar.gz PackageFileSize: 7.155 MiB