Package: fgsea Version: 1.36.0 Command: rm -rf fgsea.buildbin-libdir && mkdir fgsea.buildbin-libdir && /Users/biocbuild/BBS/utils/build-universal.sh fgsea_1.36.0.tar.gz /Library/Frameworks/R.framework/Resources/bin/R fgsea.buildbin-libdir StartedAt: 2025-11-04 01:40:12 -0500 (Tue, 04 Nov 2025) EndedAt: 2025-11-04 01:41:05 -0500 (Tue, 04 Nov 2025) EllapsedTime: 53.3 seconds RetCode: 0 Status: OK PackageFile: fgsea_1.36.0.tgz PackageFileSize: 7.191 MiB