Package: fgsea Version: 1.36.0 Command: /Library/Frameworks/R.framework/Resources/bin/R CMD INSTALL fgsea StartedAt: 2025-11-02 15:04:49 -0500 (Sun, 02 Nov 2025) EndedAt: 2025-11-02 15:05:00 -0500 (Sun, 02 Nov 2025) EllapsedTime: 11.2 seconds RetCode: 0 Status: OK