Package: fgsea Version: 1.36.0 Command: /Library/Frameworks/R.framework/Resources/bin/R CMD build --keep-empty-dirs --no-resave-data fgsea StartedAt: 2025-10-31 16:27:56 -0400 (Fri, 31 Oct 2025) EndedAt: 2025-10-31 16:32:08 -0400 (Fri, 31 Oct 2025) EllapsedTime: 251.8 seconds RetCode: 0 Status: OK PackageFile: fgsea_1.36.0.tar.gz PackageFileSize: 7.155 MiB