Package: fgga Version: 1.17.0 Command: /Library/Frameworks/R.framework/Resources/bin/R CMD build --keep-empty-dirs --no-resave-data fgga StartedAt: 2025-10-16 17:39:20 -0400 (Thu, 16 Oct 2025) EndedAt: 2025-10-16 17:40:36 -0400 (Thu, 16 Oct 2025) EllapsedTime: 75.5 seconds RetCode: 0 Status: OK PackageFile: fgga_1.17.0.tar.gz PackageFileSize: 1.361 MiB