Package: fgga Version: 1.17.0 Command: rm -rf fgga.buildbin-libdir && mkdir fgga.buildbin-libdir && /Users/biocbuild/BBS/utils/build-universal.sh fgga_1.17.0.tar.gz /Library/Frameworks/R.framework/Resources/bin/R fgga.buildbin-libdir StartedAt: 2025-10-17 03:50:27 -0400 (Fri, 17 Oct 2025) EndedAt: 2025-10-17 03:50:46 -0400 (Fri, 17 Oct 2025) EllapsedTime: 19.7 seconds RetCode: 0 Status: OK PackageFile: fgga_1.17.0.tgz PackageFileSize: 1.37 MiB