Package: ffpe Version: 1.53.0 Command: /home/biocbuild/R/R/bin/R CMD INSTALL ffpe StartedAt: 2025-10-23 21:27:22 -0000 (Thu, 23 Oct 2025) EndedAt: 2025-10-23 21:28:19 -0000 (Thu, 23 Oct 2025) EllapsedTime: 56.6 seconds RetCode: 0 Status: OK